Workbook

Sheet Лист1
A1: Школа | E1: Отд./корп | I1: День | J1: 25.11.2022г
A3: Прием пищи | B3: Раздел | C3: № рец. | D3: Блюдо | E3: Выход, г | F3: Цена | G3: Калорийность | H3: Белки | I3: Жиры | J3: Углеводы
A4: Завтрак | B4: гор.блюдо | C4: 2770 | D4: Каша гречневая с молоком | E4: 150 | F4: 11, 53 | G4: 120, 88 | H4: 11, 52 | I4: 7, 44 | J4: 2, 08
B5: гор.напиток | C5: =[1]Лист1!C5 -> 160105 | D5: =[1]Лист1!D5 -> Чай с сахаром | E5: =[1]Лист1!E5 -> 200 | F5: =[1]Лист1!F5 -> 1, 99 | G5: =[1]Лист1!G5 -> 58 | H5: =[1]Лист1!H5 -> 0, 2 | I5: =[1]Лист1!I5 -> 0 | J5: =[1]Лист1!J5 -> 15
B6: хлеб | C6: 200102 | D6: Хлеб | E6: 50 | F6: 1, 25 | G6: 212, 8 | H6: 7, 12 | I6: 2, 64 | J6: 37, 36
A9: Завтрак 2 | B9: фрукты
A12: Обед | B12: закуска
B13: 1 блюдо
B14: 2 блюдо | C14: =[2]Лист1!C14 -> 120549 | D14: =[2]Лист1!D14 -> Котлеты из говядины с отварными макаронами и соусом | E14: =[2]Лист1!E14 -> 50 /50 /100 | F14: =[2]Лист1!F14 -> 25, 67 | G14: =[2]Лист1!G14 -> 150, 66 | H14: =[2]Лист1!H14 -> 13, 58 | I14: =[2]Лист1!I14 -> 9, 78 | J14: =[2]Лист1!J14 -> 2, 08
B15: гарнир | C15: =[2]Лист1!C15 -> 0 | D15: =[2]Лист1!D15 -> 0 | E15: =[2]Лист1!E15 -> 0 | F15: =[2]Лист1!F15 -> 0 | G15: =[2]Лист1!G15 -> 0 | H15: =[2]Лист1!H15 -> 0 | I15: =[2]Лист1!I15 -> 0 | J15: =[2]Лист1!J15 -> 0
B16: сладкое | C16: =[2]Лист1!C16 -> 160105 | D16: =[2]Лист1!D16 -> Чай с сахаром | E16: =[2]Лист1!E16 -> 200 | F16: =[2]Лист1!F16 -> 1, 99 | G16: 58 | H16: =[2]Лист1!H16 -> 0, 2 | I16: =[2]Лист1!I16 -> 0 | J16: 15
B17: хлеб бел. | C17: =[2]Лист1!C17 -> 200102 | D17: =[2]Лист1!D17 -> Хлеб | E17: =[2]Лист1!E17 -> 50 | F17: =[2]Лист1!F17 -> 1, 25 | G17: =[2]Лист1!G17 -> 212, 8 | H17: =[2]Лист1!H17 -> 7, 12 | I17: =[2]Лист1!I17 -> 2, 64 | J17: =[2]Лист1!J17 -> 37, 36
B18: хлеб черн.

Sheet Лист2

Sheet Лист3
